BEGIN:VCALENDAR
VERSION:2.0
PRODID:-//Today Stage - ECPv6.10.2//NONSGML v1.0//EN
CALSCALE:GREGORIAN
METHOD:PUBLISH
X-ORIGINAL-URL:https://todaystage.com
X-WR-CALDESC:Events for Today Stage
REFRESH-INTERVAL;VALUE=DURATION:PT1H
X-Robots-Tag:noindex
X-PUBLISHED-TTL:PT1H
BEGIN:VTIMEZONE
TZID:Asia/Krasnoyarsk
BEGIN:STANDARD
TZOFFSETFROM:+0700
TZOFFSETTO:+0700
TZNAME:+07
DTSTART:20230101T000000
END:STANDARD
END:VTIMEZONE
BEGIN:VEVENT
DTSTART;TZID=Asia/Krasnoyarsk:20250503T180000
DTEND;TZID=Asia/Krasnoyarsk:20250503T210000
DTSTAMP:20260421T134727
CREATED:20250308T082600Z
LAST-MODIFIED:20250308T082601Z
UID:14701-1746295200-1746306000@todaystage.com
SUMMARY:DAY6 3rd World Tour Forever Young in Jakarta
DESCRIPTION:Detail check here
URL:https://todaystage.com/stages/day6-3rd-world-tour-forever-young-in-jakarta/
ATTACH;FMTTYPE=image/jpeg:https://todaystage.com/wp-content/uploads/2025/03/todaystageid_1740911635_3579348683307464349_19756429300.jpg
END:VEVENT
BEGIN:VEVENT
DTSTART;TZID=Asia/Krasnoyarsk:20250419T193000
DTEND;TZID=Asia/Krasnoyarsk:20250419T210000
DTSTAMP:20260421T134727
CREATED:20250308T085839Z
LAST-MODIFIED:20250308T085840Z
UID:14723-1745091000-1745096400@todaystage.com
SUMMARY:Paul Kim Sincerely Yours
DESCRIPTION:Details check here
URL:https://todaystage.com/stages/paul-kim-sincerely-yours/
LOCATION:Ciputra Artpreneur Theatre\, Ciputra World\, Retail Podium\, Jl. Prof. DR. Satrio No.1 Kav. 3-5\, RT.18/RW.4\, Kuningan\, Karet Kuningan\, Kota Jakarta Selatan\, Daerah Khusus Ibukota Jakarta 12940\, South Jakarta\, Jakarta\, 12940\, Indonesia
ATTACH;FMTTYPE=image/jpeg:https://todaystage.com/wp-content/uploads/2025/02/Snapinst.app_481185770_18485602042048365_3343389716995439262_n_1080.jpg
END:VEVENT
BEGIN:VEVENT
DTSTART;TZID=Asia/Krasnoyarsk:20250419T190000
DTEND;TZID=Asia/Krasnoyarsk:20250419T210000
DTSTAMP:20260421T134727
CREATED:20250308T090305Z
LAST-MODIFIED:20250308T090306Z
UID:14727-1745089200-1745096400@todaystage.com
SUMMARY:MINHOVERSE 2025 LEE MINHO ASIA FANMEETING TOUR
DESCRIPTION:Details check here
URL:https://todaystage.com/stages/minhoverse-2025-lee-minho-asia-fanmeeting-tour/
LOCATION:ICE BSD\, Jl. BSD Grand Boulevard No.1\, Pagedangan\, Tangerang\, Banten\, 15339\, Indonesia
ATTACH;FMTTYPE=image/jpeg:https://todaystage.com/wp-content/uploads/2025/02/784952b7-ca30-4544-a68e-dcc25fcd4f02.jpg
END:VEVENT
BEGIN:VEVENT
DTSTART;TZID=Asia/Krasnoyarsk:20250419T150000
DTEND;TZID=Asia/Krasnoyarsk:20250419T170000
DTSTAMP:20260421T134727
CREATED:20250308T090850Z
LAST-MODIFIED:20250308T090851Z
UID:14731-1745074800-1745082000@todaystage.com
SUMMARY:PARK JI HOON WINTER FANMEETING "OPENING"
DESCRIPTION:Details check here
URL:https://todaystage.com/stages/park-ji-hoon-winter-fanmeeting-opening/
ATTACH;FMTTYPE=image/jpeg:https://todaystage.com/wp-content/uploads/2025/02/PARK-JIHOON-01-1.jpg
END:VEVENT
BEGIN:VEVENT
DTSTART;TZID=Asia/Krasnoyarsk:20250412T190000
DTEND;TZID=Asia/Krasnoyarsk:20250412T210000
DTSTAMP:20260421T134727
CREATED:20250308T083744Z
LAST-MODIFIED:20250308T083746Z
UID:14708-1744484400-1744491600@todaystage.com
SUMMARY:BOYNEXTDOOR Tour Knock On Vol 1
DESCRIPTION:Details check here
URL:https://todaystage.com/stages/boynextdoor-tour-knock-on-vol-1/
LOCATION:Istora Senayan\, Jl. Pintu Satu Senayan No.1\, RT.1/RW.3\, Gelora\, Kecamatan Tanah Abang\, Kota Jakarta Pusat\, Daerah Khusus Ibukota Jakarta 10270\, Central Jakarta\, Jakarta\, 10270\, Indonesia
ATTACH;FMTTYPE=image/png:https://todaystage.com/wp-content/uploads/2025/03/1x1-1.png
END:VEVENT
BEGIN:VEVENT
DTSTART;TZID=Asia/Krasnoyarsk:20250412T150000
DTEND;TZID=Asia/Krasnoyarsk:20250412T170000
DTSTAMP:20260421T134727
CREATED:20250308T085307Z
LAST-MODIFIED:20250308T085308Z
UID:14721-1744470000-1744477200@todaystage.com
SUMMARY:TAEYEON CONCERT THE TENSE
DESCRIPTION:Details check here
URL:https://todaystage.com/stages/taeyeon-concert-the-tense/
LOCATION:Indonesia Arena\, Jl. Pintu Satu Senayan\, RT.1/RW.3\, Gelora\, Kecamatan Tanah Abang\, Central Jakarta\, Jakarta\, 10270\, Indonesia
ATTACH;FMTTYPE=image/png:https://todaystage.com/wp-content/uploads/2025/02/TODAYSTAGE-2025-4.png
END:VEVENT
BEGIN:VEVENT
DTSTART;TZID=Asia/Krasnoyarsk:20250411T193000
DTEND;TZID=Asia/Krasnoyarsk:20250411T210000
DTSTAMP:20260421T134727
CREATED:20250308T084934Z
LAST-MODIFIED:20250308T084935Z
UID:14719-1744399800-1744405200@todaystage.com
SUMMARY:KISS OF LIFE 1st World Tour (KISS ROAD)
DESCRIPTION:Details check here
URL:https://todaystage.com/stages/kiss-of-life-1st-world-tour-kiss-road/
LOCATION:The Kasablanka Hall\, Kota Kasablanka Lt. 3\, Jl. Casablanca Raya kav. 88\, RT.3/RW.14\, Menteng Dalam\, Kec. Tebet\, South Jakarta\, Jakarta\, 12870\, Indonesia
ATTACH;FMTTYPE=image/jpeg:https://todaystage.com/wp-content/uploads/2025/01/KIOFF-01-1.jpg
ORGANIZER;CN="Three Angels":MAILTO:threeanglesproduction@gmail.com
END:VEVENT
BEGIN:VEVENT
DTSTART;TZID=Asia/Krasnoyarsk:20250409T190000
DTEND;TZID=Asia/Krasnoyarsk:20250409T210000
DTSTAMP:20260421T134727
CREATED:20250308T084616Z
LAST-MODIFIED:20250308T084618Z
UID:14714-1744225200-1744232400@todaystage.com
SUMMARY:Peder Alias Asia Tour 2025
DESCRIPTION:Details check here
URL:https://todaystage.com/stages/peder-alias-asia-tour-2025/
LOCATION:The Kasablanka Hall\, Kota Kasablanka Lt. 3\, Jl. Casablanca Raya kav. 88\, RT.3/RW.14\, Menteng Dalam\, Kec. Tebet\, South Jakarta\, Jakarta\, 12870\, Indonesia
ATTACH;FMTTYPE=image/png:https://todaystage.com/wp-content/uploads/2025/03/TODAYSTAGE-2025-12-1000x1000-1.png
END:VEVENT
BEGIN:VEVENT
DTSTART;TZID=Asia/Krasnoyarsk:20250405T193000
DTEND;TZID=Asia/Krasnoyarsk:20250405T210000
DTSTAMP:20260421T134727
CREATED:20250308T083054Z
LAST-MODIFIED:20250308T083146Z
UID:14703-1743881400-1743886800@todaystage.com
SUMMARY:2025 YOO YEON SEOK FANMEETING [The Secret Code : Y]
DESCRIPTION:Details check here
URL:https://todaystage.com/stages/2025-yoo-yeon-seok-fanmeeting-the-secret-code-y/
LOCATION:JIEXPO Convention Center\, Jalan Benyamin Sueb No. 1\, North Jakarta\, Jakarta\, 10620\, Indonesia
ATTACH;FMTTYPE=image/png:https://todaystage.com/wp-content/uploads/2025/03/2x3-5.png
END:VEVENT
BEGIN:VEVENT
DTSTART;TZID=Asia/Krasnoyarsk:20250405T190000
DTEND;TZID=Asia/Krasnoyarsk:20250405T210000
DTSTAMP:20260421T134727
CREATED:20250308T084127Z
LAST-MODIFIED:20250308T084129Z
UID:14712-1743879600-1743886800@todaystage.com
SUMMARY:TAPE:RE LOAD JAY B CONCERT
DESCRIPTION:Details check here
URL:https://todaystage.com/stages/tapere-load-jay-b-concert/
LOCATION:The Kasablanka Hall\, Kota Kasablanka Lt. 3\, Jl. Casablanca Raya kav. 88\, RT.3/RW.14\, Menteng Dalam\, Kec. Tebet\, South Jakarta\, Jakarta\, 12870\, Indonesia
ATTACH;FMTTYPE=image/jpeg:https://todaystage.com/wp-content/uploads/2025/02/p_headline_harga-tiket-konser-jay-b-got7-b4a14ca12b.jpg
END:VEVENT
BEGIN:VEVENT
DTSTART;TZID=Asia/Krasnoyarsk:20241231T190000
DTEND;TZID=Asia/Krasnoyarsk:20241231T210000
DTSTAMP:20260421T134727
CREATED:20240331T085644Z
LAST-MODIFIED:20240331T085647Z
UID:7153-1735671600-1735678800@todaystage.com
SUMMARY:FIRST FANMEET BABYMONSTER PRESENTS SEE YOU THERE
DESCRIPTION:BABYMONSTER\, a rising South Korean girl group\, will hold their first fanmeeting in 2024. Through uploads on their official Instagram account (@babymonster_ygofficial)\, the seven-member group will visit a number of cities\, including Jakarta\, Indonesia. In the upload on Today (Monday\, 18/03)\, YG Entertainment mentioned several cities that will be the location of the BABYMONSTER fanmeeting. First\, they will visit Tokyo\, followed by Jakarta\, Singapore\, Taipei\, and Bangkok. Unfortunately\, it has not been announced when and where the fan meeting location will be.
URL:https://todaystage.com/stages/first-fanmeet-babymonster-presents-see-you-there/
ATTACH;FMTTYPE=image/jpeg:https://todaystage.com/wp-content/uploads/2024/03/BM-01-scaled.jpg
END:VEVENT
BEGIN:VEVENT
DTSTART;TZID=Asia/Krasnoyarsk:20240831T190000
DTEND;TZID=Asia/Krasnoyarsk:20240831T210000
DTSTAMP:20260421T134727
CREATED:20240331T084906Z
LAST-MODIFIED:20240331T084909Z
UID:7149-1725130800-1725138000@todaystage.com
SUMMARY:2024 RIIZE FAN-CON TOUR ‘RIIZING DAY’
DESCRIPTION:South Korean boy group RIIZE is set to hold its RIIZING DAY Fan-Con tour in Jakarta on August 31\, 2024 at the Indonesia Convention Exhibition (ICE) BSD City\, South Tangerang.
URL:https://todaystage.com/stages/2024-riize-fan-con-tour-riizing-day/
LOCATION:ICE BSD City\, Jl. BSD Grand Boulevard No.1\, Pagedangan\, Kec. Pagedangan\, Kabupaten Tangerang\, Banten\, 15339\, Indonesia
ATTACH;FMTTYPE=image/jpeg:https://todaystage.com/wp-content/uploads/2024/03/todaystageid_1709626642_3316911140963824723_19756429300.jpg
END:VEVENT
BEGIN:VEVENT
DTSTART;TZID=Asia/Krasnoyarsk:20240824T190000
DTEND;TZID=Asia/Krasnoyarsk:20240824T210000
DTSTAMP:20260421T134727
CREATED:20240331T091958Z
LAST-MODIFIED:20240331T092000Z
UID:7163-1724526000-1724533200@todaystage.com
SUMMARY:IVE THE 1ST WORLD TOUR (SHOW WHAT i HAVE) IN JAKARTA
DESCRIPTION:DIVE Get Ready! IVE will have their Solo Concert in Jakarta in August 2024! K-pop fans are again spoiled by sophisticated concerts. This time\, the girl group debuted by Starship Entertainment\, IVE\, will visit Jakarta. They will hold a concert titled Show What I Have.
URL:https://todaystage.com/stages/ive-the-1st-world-tour-show-what-i-have-in-jakarta/
LOCATION:ICE BSD City\, Jl. BSD Grand Boulevard No.1\, Pagedangan\, Kec. Pagedangan\, Kabupaten Tangerang\, Banten\, 15339\, Indonesia
ATTACH;FMTTYPE=image/jpeg:https://todaystage.com/wp-content/uploads/2024/03/IVETHE-1st-WORLD-TOUR_SHOW-WHAT-I-HAVE_Main-poster_JAKARTA24ags-600x849-1.jpg
END:VEVENT
BEGIN:VEVENT
DTSTART;TZID=Asia/Krasnoyarsk:20240824T190000
DTEND;TZID=Asia/Krasnoyarsk:20240824T210000
DTSTAMP:20260421T134727
CREATED:20240331T085258Z
LAST-MODIFIED:20240331T085300Z
UID:7151-1724526000-1724533200@todaystage.com
SUMMARY:2024 aespa LIVE TOUR – SYNK : Parallel Line
DESCRIPTION:Girl group\, aespa will hold another concert in Indonesia. The concert titled 2024 aespa LIVE TOUR – SYNK: Parallel Line will be held in Jakarta on August 24\, 2024. The news was first announced through aespa’s official Instagram account. Jakarta is one of the cities that aespa will visit on the tour.
URL:https://todaystage.com/stages/2024-aespa-live-tour-synk-parallel-line/
ATTACH;FMTTYPE=image/jpeg:https://todaystage.com/wp-content/uploads/2024/03/todaystageid_1708330603_3306039179626837654_19756429300.jpg
END:VEVENT
BEGIN:VEVENT
DTSTART;TZID=Asia/Krasnoyarsk:20240727T183000
DTEND;TZID=Asia/Krasnoyarsk:20240727T210000
DTSTAMP:20260421T134727
CREATED:20240331T083732Z
LAST-MODIFIED:20240331T083735Z
UID:7143-1722105000-1722114000@todaystage.com
SUMMARY:2024 KIM SEONHO ASIA TOUR  in JAKARTA
DESCRIPTION:2024 KIM SEONHO ASIA TOUR <Color Full> in JAKARTA\, Saturday\, July 27th 2024 at Indonesia Arena – Senayan.Seonhohada Indonesia\, the charming actor #KimSeonHo is coming back to Indonesia! Let’s meet at #KimSeonHoInJKT
URL:https://todaystage.com/stages/2024-kim-seonho-asia-tour-in-jakarta/
LOCATION:Indonesia Arena\, Jl. Pintu Satu Senayan\, RT.1/RW.3\, Gelora\, Kecamatan Tanah Abang\, Central Jakarta\, Jakarta\, 10270\, Indonesia
ATTACH;FMTTYPE=image/jpeg:https://todaystage.com/wp-content/uploads/2024/01/Snapinsta.app_420886455_410719811385483_6271649619796808132_n_1080.jpg
END:VEVENT
BEGIN:VEVENT
DTSTART;TZID=Asia/Krasnoyarsk:20240712T190000
DTEND;TZID=Asia/Krasnoyarsk:20240712T210000
DTSTAMP:20260421T134727
CREATED:20240331T091344Z
LAST-MODIFIED:20240331T091347Z
UID:7161-1720810800-1720818000@todaystage.com
SUMMARY:2024 DOH KYUNG SOO ASIA FAN CONCERT TOUR  in JAKARTA
DESCRIPTION:Good news for EXO-L\, the name of EXO fandom. EXO member\, Doh Kyung Soo or known as EXO’s D.O will hold a fancon or fan meeting tour Asia in Jakarta this year. EXO’s D.O is ready to greet fans in Jakarta on July 12\, 2024. This news was confirmed through MECIMAPRO’s social media account (@mecimapro).
URL:https://todaystage.com/stages/2024-doh-kyung-soo-asia-fan-concert-tour-in-jakarta/
LOCATION:The Kasablanka Hall\, Kota Kasablanka Lt. 3\, Jl. Casablanca Raya kav. 88\, RT.3/RW.14\, Menteng Dalam\, Kec. Tebet\, South Jakarta\, Jakarta\, 12870\, Indonesia
ATTACH;FMTTYPE=image/jpeg:https://todaystage.com/wp-content/uploads/2024/03/DO-BARU-01-scaled.jpg
END:VEVENT
BEGIN:VEVENT
DTSTART;TZID=Asia/Krasnoyarsk:20240601T190000
DTEND;TZID=Asia/Krasnoyarsk:20240602T210000
DTSTAMP:20260421T134727
CREATED:20240331T090121Z
LAST-MODIFIED:20240331T090124Z
UID:7155-1717268400-1717362000@todaystage.com
SUMMARY:2024 Baekhyun Asia Tour Londsdaleite
DESCRIPTION:Come and listen to Baekhyun’s shining voice that is sweet as CANDY?! 2024 BAEKHYUN ASIA TOUR [Lonsdaleite] IN JAKARTA? 01 JUNE 2024 (SAT)\, 7PM (WED)? 02 JUNE 2024 (MIN)\, 7PM (WIB)? ICE BSD HALL 5
URL:https://todaystage.com/stages/2024-baekhyun-asia-tour-londsdaleite/
LOCATION:ICE BSD City\, Jl. BSD Grand Boulevard No.1\, Pagedangan\, Kec. Pagedangan\, Kabupaten Tangerang\, Banten\, 15339\, Indonesia
ATTACH;FMTTYPE=image/jpeg:https://todaystage.com/wp-content/uploads/2024/03/BAEK-01-scaled.jpg
END:VEVENT
BEGIN:VEVENT
DTSTART;TZID=Asia/Krasnoyarsk:20240525T190000
DTEND;TZID=Asia/Krasnoyarsk:20240525T210000
DTSTAMP:20260421T134727
CREATED:20240501T101147Z
LAST-MODIFIED:20240501T101148Z
UID:7525-1716663600-1716670800@todaystage.com
SUMMARY:CNBLUEntity
DESCRIPTION:CNBLUE finally took the time to hold a concert in Indonesia. Titled ‘CNBLUEntity’\, this event is ready to be held at ICE BSD\, South Tangerang on Saturday (5/25/2024). This announcement came through CNBLUE’s official Instagram which said\, Jung Yong Hwa cs would come to Indonesia.
URL:https://todaystage.com/stages/cnbluentity/
LOCATION:ICE BSD City\, Jl. BSD Grand Boulevard No.1\, Pagedangan\, Kec. Pagedangan\, Kabupaten Tangerang\, Banten\, 15339\, Indonesia
ATTACH;FMTTYPE=image/png:https://todaystage.com/wp-content/uploads/2024/04/CNBLUE-1.png
END:VEVENT
BEGIN:VEVENT
DTSTART;TZID=Asia/Krasnoyarsk:20240518T190000
DTEND;TZID=Asia/Krasnoyarsk:20240518T210000
DTSTAMP:20260421T134727
CREATED:20240501T100610Z
LAST-MODIFIED:20240501T100611Z
UID:7522-1716058800-1716066000@todaystage.com
SUMMARY:Kyuhyun Asia Tour ‘Restart’ in Jakarta
DESCRIPTION:Prepare to be swept off your feet this May as Kyuhyun will be coming to Jakarta for his FIRST-EVER solo debut concert happening on 18 May 2024 at Tennis Indoor Senayan! This will also be last and final stop of the 2024 KYUHYUN ASIA TOUR ‘Restart’ in Jakarta\, and it’s going to be an amazing night you don’t want to miss.
URL:https://todaystage.com/stages/kyuhyun-asia-tour-restart-in-jakarta/
LOCATION:Tennis Indoor Senayan\, Jl. Pintu Satu Senayan No.B\, RT.1/RW.3\, Gelora\, Kecamatan Tanah Abang\, South Jakarta\, Jakarta\, 10270\, Indonesia
ATTACH;FMTTYPE=image/jpeg:https://todaystage.com/wp-content/uploads/2024/03/todaystageid_1707624865_3300119023339916830_19756429300.jpg
ORGANIZER;CN="CK Star Entertainment":MAILTO:enquiries-id@ckstarentertainment.com
END:VEVENT
BEGIN:VEVENT
DTSTART;TZID=Asia/Krasnoyarsk:20240518T190000
DTEND;TZID=Asia/Krasnoyarsk:20240518T210000
DTSTAMP:20260421T134727
CREATED:20240331T084522Z
LAST-MODIFIED:20240331T084525Z
UID:7145-1716058800-1716066000@todaystage.com
SUMMARY:2024 NCT DREAM WORLD TOUR "THE DREAM SHOW 3"
DESCRIPTION:? 2024 NCT DREAM WORLD TOUR <THE DREAM SHOW 3> in JAKARTA Another history in the making ?? Picture yourself at a stadium\, surrounded by thousands of fellow NCTzens in an ocean of neon green while witnessing NCT DREAM’s bigger\, more breathtaking performance than ever before And guess what? We’re making this DREAM a reality together this May! Let’s light up our lightsticks and join NCT DREAM in writing this history ? Mark your calendar:? Saturday\, May 18th\, 2024? Gelora Bung Karno Stadium
URL:https://todaystage.com/stages/2024-nct-dream-world-tour-the-dream-show-3/
LOCATION:Gelora Bung Karno Main Stadium\, Jl. Pintu Satu Senayan\, Gelora\, Kecamatan Tanah Abang\,\, Kota Jakarta Pusat\, Daerah Khusus Ibukota Jakarta\, 10270\, Indonesia
ATTACH;FMTTYPE=image/jpeg:https://todaystage.com/wp-content/uploads/2024/03/todaystageid_1709705562_3317573175015711451_19756429300.jpg
END:VEVENT
BEGIN:VEVENT
DTSTART;TZID=Asia/Krasnoyarsk:20240518T190000
DTEND;TZID=Asia/Krasnoyarsk:20240518T210000
DTSTAMP:20260421T134727
CREATED:20240331T083250Z
LAST-MODIFIED:20240331T083253Z
UID:7137-1716058800-1716066000@todaystage.com
SUMMARY:2024 Yeo Jin Goo Fan Meeting in Jakarta
DESCRIPTION:We are excited to announce that the new date for 2024 Yeo Jin Goo Fan Meeting in Jakarta will be on *Saturday 18 May 2024* at iNews Tower from 07:00 pm – 09:00 pm (Jakarta Time) . With the new theme “Closer to You with Yeo Jin Goo” ✨ Do not miss it! Mark your calendar and get your ticket at inspiretix.comWe will see you very soon Yeo U ?
URL:https://todaystage.com/stages/2024-yeo-jin-goo-fan-meeting-in-jakarta/
LOCATION:iNews Tower\, Jl. K.H. Wahid Hasyim No.36-38\, RT.15/RW.7\, Kb. Sirih\, Kec. Menteng\, Central Jakarta\, Jakarta\, 10340\, Indonesia
ATTACH;FMTTYPE=image/jpeg:https://todaystage.com/wp-content/uploads/2024/03/addigtive.id_1710319356_3322722049919233382_31345718919.jpg
END:VEVENT
BEGIN:VEVENT
DTSTART;TZID=Asia/Krasnoyarsk:20240512T190000
DTEND;TZID=Asia/Krasnoyarsk:20240512T210000
DTSTAMP:20260421T134727
CREATED:20240501T095806Z
LAST-MODIFIED:20240501T095906Z
UID:7516-1715540400-1715547600@todaystage.com
SUMMARY:Ji Chang Wook Fansign Event in KOREA 360
DESCRIPTION:South Korean actor Ji Chang Wook will soon hold a fansign event in Jakarta. Finally\, Ji Chang Wook will greet his fans in Indonesia through a fansign event titled Ji Chang Wook Fansign Event in KOREA 360.
URL:https://todaystage.com/stages/ji-chang-wook-fansign-event-in-korea-360/
LOCATION:Korea 360\, Jl. Prof. DR. Satrio No.4 No.Kav 3\, Kuningan\, Karet Kuningan\, Kecamatan Setiabudi\, South Jakarta\, Jakarta\, 12940\, Indonesia
ATTACH;FMTTYPE=image/jpeg:https://todaystage.com/wp-content/uploads/2024/04/todaystageid_1713691491_3351009566416188346_19756429300.jpg
END:VEVENT
BEGIN:VEVENT
DTSTART;TZID=Asia/Krasnoyarsk:20240511T190000
DTEND;TZID=Asia/Krasnoyarsk:20240511T210000
DTSTAMP:20260421T134727
CREATED:20240331T081950Z
LAST-MODIFIED:20240331T081952Z
UID:7133-1715454000-1715461200@todaystage.com
SUMMARY:LUCAS FANCON TOUR IN ASIA  in Jakarta
DESCRIPTION:Through his official social media accounts (@lucas_smofficial)\, SM Entertainment has announced that Lucas will hold an Asian fancon tour entitled LUCAS FANCON TOUR IN ASIA <FAT LUX : 熙> in Jakarta.
URL:https://todaystage.com/stages/lucas-fancon-tour-in-asia-in-jakarta/
ATTACH;FMTTYPE=image/jpeg:https://todaystage.com/wp-content/uploads/2024/03/todaystageid_1710308412_3322630242432971406_19756429300.jpg
END:VEVENT
BEGIN:VEVENT
DTSTART;TZID=Asia/Krasnoyarsk:20240504T180000
DTEND;TZID=Asia/Krasnoyarsk:20240504T220000
DTSTAMP:20260421T134727
CREATED:20240331T090941Z
LAST-MODIFIED:20240331T090943Z
UID:7157-1714845600-1714860000@todaystage.com
SUMMARY:SARANGHAEYO INDONESIA 2024
DESCRIPTION:The event originally slated for December 9\, 2023\, underwent a change in date due to unforeseen circumstances. Nevertheless\, MECIMAPRO as the promoter has officially announced the new date for Saranghaeyo Indonesia as May 4\, 2024. The event will still take place at Beach City International Stadium.
URL:https://todaystage.com/stages/saranghaeyo-indonesia-2024/
LOCATION:Beach City International Stadium\, Jl. Kw. Wisata Ancol\, Ancol\, Pademangan\, North Jakarta\, Jakarta\, 14430\, Indonesia
ATTACH;FMTTYPE=image/jpeg:https://todaystage.com/wp-content/uploads/2024/03/todaystageid_1707279566_3297222439874793772_19756429300-1.jpg
END:VEVENT
BEGIN:VEVENT
DTSTART;TZID=Asia/Krasnoyarsk:20240427T193000
DTEND;TZID=Asia/Krasnoyarsk:20240427T213000
DTSTAMP:20260421T134727
CREATED:20240331T074235Z
LAST-MODIFIED:20240331T074339Z
UID:7106-1714246200-1714253400@todaystage.com
SUMMARY:Yiruma World Tour Live In Jakarta
DESCRIPTION:The long-awaited South Korean treasure\, piano composer Yiruma\, is coming to Jakarta! YIRUMA World Tour Live in Jakarta 2024 Yiruma will be performing his first solo tour in Jakarta\, JIEXPO Convention Center and Theater on Saturday\, April 27\, 2024. Tickets will go on sale on Wednesday\, March 6\, 2024. More detailed ticket information will be announced soon! Proudly brought to you by Springboard & Harmonie International.
URL:https://todaystage.com/stages/yiruma-world-tour-live-in-jakarta/
LOCATION:JIEXPO Convention Center\, Jalan Benyamin Sueb No. 1\, North Jakarta\, Jakarta\, 10620\, Indonesia
ATTACH;FMTTYPE=image/webp:https://todaystage.com/wp-content/uploads/2024/03/WhatsApp-Image-2024-03-11-at-11.03.22-5.webp
END:VEVENT
BEGIN:VEVENT
DTSTART;TZID=Asia/Krasnoyarsk:20240427T190000
DTEND;TZID=Asia/Krasnoyarsk:20240428T210000
DTSTAMP:20260421T134727
CREATED:20240331T082509Z
LAST-MODIFIED:20240331T082512Z
UID:7135-1714244400-1714338000@todaystage.com
SUMMARY:2024 IU H.E.R. WORLD TOUR CONCERT IN JAKARTA
DESCRIPTION:Lee Ji-eun\, also known by her stage name IU\, is a South Korean singer\, songwriter\, philanthropist\, and actress. Her stage name IU\, mean “I and You become one through music.” IU is also loved by fans worldwide for her performance as an actress in dramas such as “Moon Lovers: Scarlet Heart Ryeo\,” “Hotel Del Luna\,” and “My Mister.”  She debuted as a singer at the age of fifteen with Lost and Found (2008). She achieved national stardom after the release of “Good Day”\, the lead single from her 2010 album “Real”. After releasing five studio albums\, ten extended plays (EPs)\, 47 singles (including 19 as featured artist)\, five single albums\, two remake albums and two compilation albums\, IU successful in maintaining her dominance in Korean music charts and further brace her nickname as Korea’s “little sister.” She is now known as “The Nation’s Sweetheart”. Now she’s finally comeback for【2024 IU H.E.R. WORLD TOUR CONCERT】IN JAKARTA! Let’s get ready to witness her amazing performance and make unforgettable memories. Tickets will be ready for sale on 8 March 2024 at 12:00 PM at iuinjakarta2024.com
URL:https://todaystage.com/stages/2024-iu-h-e-r-world-tour-concert-in-jakarta/
LOCATION:ICE BSD City\, Jl. BSD Grand Boulevard No.1\, Pagedangan\, Kec. Pagedangan\, Kabupaten Tangerang\, Banten\, 15339\, Indonesia
ATTACH;FMTTYPE=image/jpeg:https://todaystage.com/wp-content/uploads/2024/03/todaystageid_1709187426_3313226734071728378_19756429300.jpg
ORGANIZER;CN="CK Star Entertainment":MAILTO:enquiries-id@ckstarentertainment.com
END:VEVENT
BEGIN:VEVENT
DTSTART;TZID=Asia/Krasnoyarsk:20240426T193000
DTEND;TZID=Asia/Krasnoyarsk:20240426T213000
DTSTAMP:20260421T134727
CREATED:20240331T074715Z
LAST-MODIFIED:20240331T074718Z
UID:7113-1714159800-1714167000@todaystage.com
SUMMARY:2nd Show Yiruma World Tour Live In Jakarta
DESCRIPTION:Jakarta\, we are adding new shows! April 26\, 2024 YIRUMA World Tour Live in Jakarta 2024. Tickets for the second show will start this afternoon March 28\, 2024 at 16 WIB only at bit.ly/yirumajakartaday2 or click the link below. April 26 & 27\, 2024 at JIEXPO Convention Center and Theater Proudly brought to you by Springboard & Harmonie International.
URL:https://todaystage.com/stages/2nd-show-yiruma-world-tour-live-in-jakarta/
LOCATION:JIEXPO Convention Center\, Jalan Benyamin Sueb No. 1\, North Jakarta\, Jakarta\, 10620\, Indonesia
ATTACH;FMTTYPE=image/jpeg:https://todaystage.com/wp-content/uploads/2024/03/Snapinsta.app_434542157_389323477317765_1313882006230859201_n_1080.jpg
END:VEVENT
BEGIN:VEVENT
DTSTART;TZID=Asia/Krasnoyarsk:20240420T190000
DTEND;TZID=Asia/Krasnoyarsk:20240420T210000
DTSTAMP:20260421T134727
CREATED:20240331T080043Z
LAST-MODIFIED:20240331T080046Z
UID:7119-1713639600-1713646800@todaystage.com
SUMMARY:CHA EUN-WOO 2024 Just One 10 Minute [Mystery Elevator]
DESCRIPTION:Viu Scream Dates are proud to present CHA EUN-WOO 2024 Just One 10 Minute [Mystery Elevator] in Jakarta on 20 April 2024\, 7pm at Tennis Indoor Senayan. Fans are invited to embark on a unique journey by riding the “Mystery Elevator” to an unexplored space\, where they can fully indulge in and appreciate the multifaceted charms of CHA EUN-WOO.
URL:https://todaystage.com/stages/cha-eun-woo-2024-just-one-10-minute-mystery-elevator/
LOCATION:Tennis Indoor Senayan\, Jl. Pintu Satu Senayan No.B\, RT.1/RW.3\, Gelora\, Kecamatan Tanah Abang\, South Jakarta\, Jakarta\, 10270\, Indonesia
ATTACH;FMTTYPE=image/jpeg:https://todaystage.com/wp-content/uploads/2024/03/todaystageid_1708355213_3306245621122278100_19756429300.jpg
END:VEVENT
BEGIN:VEVENT
DTSTART;TZID=Asia/Krasnoyarsk:20240420T150000
DTEND;TZID=Asia/Krasnoyarsk:20240420T170000
DTSTAMP:20260421T134727
CREATED:20240331T075411Z
LAST-MODIFIED:20240331T075414Z
UID:7115-1713625200-1713632400@todaystage.com
SUMMARY:2024 TVXQ! ASIA TOUR [20&2]
DESCRIPTION:2024 TVXQ! CONCERT [20&2] IN JAKARTA\, Saturday\, April 20th 2024 (3PM) at ICE BSD CITY Hall 5.Indonesia Cassiopeia let’s meet #TVXQ!InJKT
URL:https://todaystage.com/stages/2024-tvxq-asia-tour-202/
LOCATION:ICE BSD\, Jl. BSD Grand Boulevard No.1\, Pagedangan\, Tangerang\, Banten\, 15339\, Indonesia
ATTACH;FMTTYPE=image/webp:https://todaystage.com/wp-content/uploads/2024/03/WhatsApp-Image-2024-03-11-at-11.03.22-3.webp
END:VEVENT
BEGIN:VEVENT
DTSTART;TZID=Asia/Krasnoyarsk:20230916T190000
DTEND;TZID=Asia/Krasnoyarsk:20230916T210000
DTSTAMP:20260421T134727
CREATED:20230818T031147Z
LAST-MODIFIED:20230818T031148Z
UID:5840-1694890800-1694898000@todaystage.com
SUMMARY:Jung Hae In Fan Meeting in Jakarta The 10th Season
DESCRIPTION:Get ready for an unforgettable experience at the “Jung Hae In Fan Meeting in Jakarta: The 10th Season”! On September 16\, 2023\, Jung Hae In\, the beloved star of the D.P. series\, will grace Jakarta with his presence for his first-ever fan meeting in Indonesia. Organized by Three Angels\, this fan meeting promises an exciting rendezvous with Jung Hae In himself. With different ticket categories to choose from\, fans can secure their spots for this anticipated event. The VIP category offers an exclusive package that includes a goodbye session\, official poster\, photocard\, VIP ID tag and lanyard\, group photo\, signed poster\, and even a signed polaroid. The GOLD\, SILVER\, and BRONZE categories also come with their respective perks\, ensuring every fan’s satisfaction. Ticket sales start on August 18\, 2023\, via the id.bookmyshow.com website. Remember\, each account can purchase a maximum of four tickets. Whether you’re a dedicated fan or simply curious about this heartthrob actor\, this fan meeting promises enchanting moments and memories that will linger long after the event. Stay tuned to Three Angels Production’s social media for updates and further information. Don’t miss out on this incredible chance to get up close and personal with Jung Hae In as he celebrates “The 10th Season” with his Indonesian fans!
URL:https://todaystage.com/stages/jung-hae-in-fan-meeting-in-jakarta-the-10th-season/
LOCATION:The Kasablanka Hall\, Kota Kasablanka Lt. 3\, Jl. Casablanca Raya kav. 88\, RT.3/RW.14\, Menteng Dalam\, Kec. Tebet\, South Jakarta\, Jakarta\, 12870\, Indonesia
ATTACH;FMTTYPE=image/jpeg:https://todaystage.com/wp-content/uploads/2023/08/ANNOUNCEMENT_JUNGHAEIN-1-scaled.jpg
ORGANIZER;CN="Three Angels":MAILTO:threeanglesproduction@gmail.com
END:VEVENT
END:VCALENDAR